BEGIN:VCALENDAR
VERSION:2.0
PRODID:icalendar-ruby
CALSCALE:GREGORIAN
METHOD:PUBLISH
BEGIN:VEVENT
DTSTAMP:20260421T101724Z
UID:51-340973@borgerchurchofchrist.com
DTSTART;VALUE=DATE:20260421
DTEND;VALUE=DATE:20260421
CLASS:PUBLIC
CREATED:20260329T202315
DESCRIPTION:
LAST-MODIFIED:20260329T202315
LOCATION:
SUMMARY:Alex DeRouen
URL;VALUE=URI:https://www.borgerchurchofchrist.com/events/alex-derouen/2026
 -04-21
ATTACH;FILENAME=Happy-Birthday.jpg;FMTTYPE=image/jpeg:https://dq5pwpg1q8ru0
 .cloudfront.net/2026/03/30/01/23/15/a2c7e676-dc6a-4d89-a7cc-1665e183bc7f/H
 appy-Birthday.jpg
END:VEVENT
END:VCALENDAR
